BEGIN:VCALENDAR
VERSION:2.0
PRODID:-//Sabre//Sabre VObject 4.5.8//EN
CALSCALE:GREGORIAN
BEGIN:VTIMEZONE
TZID:Europe/Zurich
X-LIC-LOCATION:Europe/Zurich
TZURL:http://tzurl.org/zoneinfo/Europe/Zurich
BEGIN:DAYLIGHT
TZOFFSETFROM:+0100
TZOFFSETTO:+0200
TZNAME:CEST
DTSTART:19810329T020000
RRULE:FREQ=YEARLY;BYMONTH=3;BYDAY=-1SU
END:DAYLIGHT
BEGIN:STANDARD
TZOFFSETFROM:+0200
TZOFFSETTO:+0100
TZNAME:CET
DTSTART:19961027T030000
RRULE:FREQ=YEARLY;BYMONTH=10;BYDAY=-1SU
END:STANDARD
END:VTIMEZONE
BEGIN:VEVENT
UID:news6@wbk-theologie-religion.weiterbildung.unibas.ch
DTSTAMP;TZID=Europe/Zurich:20240315T082324
DTSTART;VALUE=DATE:20240622
SUMMARY:Frieden und Krieg im Neuen Testament und seinem kulturellen Kontext
 : Vorstellungen\, Visionen\, Realitäten
DESCRIPTION:Details folgen.\\r\\n\\r\\n 	 		 			Kurszeiten: 			Samstag: 09.
 15 bis 17.00 Uhr 			Sonntag: 09.15 bis 15.00 Uhr 		 		 			Kosten: 			 			C
 HF 300 Studienwochenende (Sa./So.) 			Die Teilnahme an einem Studientag is
 t möglich: 			 				CHF 180 Studientag Samstag 				CHF 150 Studientag Sonn
 tag 			 			 		 		 			Anmeldung: 			Anmeldung per Mail dstr@unibas.ch [http
 s://das-cas-tr.weiterbildung.unibas.ch/de/studienangebot/das-theologie-und
 -religionsphilosphie/anmeldung-zulassung-1-1/#] oder Tel. +41 61 207 27 94
  erforderlich. 			Bitte teilen Sie uns mit\, ob Sie am ganzen Studienwoche
 nende oder nur am Samstag oder Sonntag teilnehmen möchten. 		 		 			Weite
 re Infos: 			Übersicht Weiterbildungskuse [t3://page?uid=350]
X-ALT-DESC:<p>Details folgen.</p>\n\n<table> 	<tbody> 		<tr> 			<td><strong
 >Kurszeiten:</strong></td> 			<td>Samstag: 09.15 bis 17.00 Uhr<br /> 			So
 nntag: 09.15 bis 15.00 Uhr</td> 		</tr> 		<tr> 			<td><strong>Kosten:</str
 ong></td> 			<td> 			<p>CHF 300 Studienwochenende (Sa./So.)</p> 			<p>Die 
 Teilnahme an einem Studientag ist möglich:</p> 			<ul> 				<li>CHF 180 St
 udientag Samstag</li> 				<li>CHF 150 Studientag Sonntag</li> 			</ul> 			
 </td> 		</tr> 		<tr> 			<td><strong>Anmeldung:</strong></td> 			<td>Anmeld
 ung per Mail <a href="https://das-cas-tr.weiterbildung.unibas.ch/de/studie
 nangebot/das-theologie-und-religionsphilosphie/anmeldung-zulassung-1-1/#">
 dstr@unibas.ch</a> oder Tel. +41 61 207 27 94 erforderlich.<br /> 			Bitte
  teilen Sie uns mit\, ob Sie am ganzen Studienwochenende oder nur am Samst
 ag oder Sonntag teilnehmen möchten.</td> 		</tr> 		<tr> 			<td><strong>We
 itere Infos:</strong></td> 			<td>Übersicht <a href="t3://page?uid=350">W
 eiterbildungskuse</a></td> 		</tr> 	</tbody> </table>
DTEND;VALUE=DATE:20240623
END:VEVENT
END:VCALENDAR
